BEGIN:VCALENDAR
VERSION:2.0
PRODID:-//IMPACT Silver Spring - ECPv6.15.17//NONSGML v1.0//EN
CALSCALE:GREGORIAN
METHOD:PUBLISH
X-WR-CALNAME:IMPACT Silver Spring
X-ORIGINAL-URL:https://impactsilverspring.org
X-WR-CALDESC:Events for IMPACT Silver Spring
REFRESH-INTERVAL;VALUE=DURATION:PT1H
X-Robots-Tag:noindex
X-PUBLISHED-TTL:PT1H
BEGIN:VTIMEZONE
TZID:America/New_York
BEGIN:DAYLIGHT
TZOFFSETFROM:-0500
TZOFFSETTO:-0400
TZNAME:EDT
DTSTART:20230312T070000
END:DAYLIGHT
BEGIN:STANDARD
TZOFFSETFROM:-0400
TZOFFSETTO:-0500
TZNAME:EST
DTSTART:20231105T060000
END:STANDARD
BEGIN:DAYLIGHT
TZOFFSETFROM:-0500
TZOFFSETTO:-0400
TZNAME:EDT
DTSTART:20240310T070000
END:DAYLIGHT
BEGIN:STANDARD
TZOFFSETFROM:-0400
TZOFFSETTO:-0500
TZNAME:EST
DTSTART:20241103T060000
END:STANDARD
BEGIN:DAYLIGHT
TZOFFSETFROM:-0500
TZOFFSETTO:-0400
TZNAME:EDT
DTSTART:20250309T070000
END:DAYLIGHT
BEGIN:STANDARD
TZOFFSETFROM:-0400
TZOFFSETTO:-0500
TZNAME:EST
DTSTART:20251102T060000
END:STANDARD
END:VTIMEZONE
BEGIN:VEVENT
DTSTART;TZID=America/New_York:20240130T180000
DTEND;TZID=America/New_York:20240130T193000
DTSTAMP:20260423T140629
CREATED:20240109T011142Z
LAST-MODIFIED:20240109T011544Z
UID:5675-1706637600-1706643000@impactsilverspring.org
SUMMARY:Book Discussion of "How We Ended Racism"
DESCRIPTION:ABOUT THE BOOK:\nJoin us on Tuesday\, January 30 for part one of a three-part series of facilitated discussions on the new book How We Ended Racism by activists\, teachers\, and authors Justin Michael Williams and Shelly Tygielski. The book explores the provocative question “What has to happen now to end racism by the year 2050?” The authors offer eight ( pillars that just might show us the way.\nUse this link to register: http://tinyurl.com/5n8yn3j3\n\nWHY PARTICIPATE:\nDuring this moment of disheartening backlash that seems to be undermining our nation’s racial reckoning\, we believe there’s no better time to dive into a book that offers some hope and actionable strategies. And by joining this series of book group discussions\, participants will gain the added benefits of deepening their engagement and broadening their insights through exploring the book’s ideas with others.\n\nHOW IT WILL WORK:\nWhile we’ll be discussing the book across three separate meetings\, we want this series of discussions to be fluid for readers.\nWe will post registration for future discussions of the book (scheduled for February 20 and March 19) closer to those dates. Readers can choose to participate in one\, two\, or all three of the discussions.\n\nRegistration is NOW OPEN for our first meeting on January 30 to discuss pages 1 – 85 (the first four pillars) of the book.\nSpace is limited for this FREE event\, so register soon!\nUse this link to register: http://tinyurl.com/5n8yn3j3
URL:https://impactsilverspring.org/event/book-discussion-of-how-we-ended-racism/
LOCATION:IMPACT Silver Spring\, 8807 Colesville Rd\, Lower Level\, Silver Spring\, MD\, 20910\, United States
ATTACH;FMTTYPE=image/png:https://impactsilverspring.org/wp-content/uploads/2024/01/Untitled-design-22.png
END:VEVENT
END:VCALENDAR