BEGIN:VCALENDAR
VERSION:2.0
PRODID:-//IMPACT Silver Spring - ECPv6.15.17//NONSGML v1.0//EN
CALSCALE:GREGORIAN
METHOD:PUBLISH
X-WR-CALNAME:IMPACT Silver Spring
X-ORIGINAL-URL:https://impactsilverspring.org
X-WR-CALDESC:Events for IMPACT Silver Spring
REFRESH-INTERVAL;VALUE=DURATION:PT1H
X-Robots-Tag:noindex
X-PUBLISHED-TTL:PT1H
BEGIN:VTIMEZONE
TZID:America/New_York
BEGIN:DAYLIGHT
TZOFFSETFROM:-0500
TZOFFSETTO:-0400
TZNAME:EDT
DTSTART:20220313T070000
END:DAYLIGHT
BEGIN:STANDARD
TZOFFSETFROM:-0400
TZOFFSETTO:-0500
TZNAME:EST
DTSTART:20221106T060000
END:STANDARD
BEGIN:DAYLIGHT
TZOFFSETFROM:-0500
TZOFFSETTO:-0400
TZNAME:EDT
DTSTART:20230312T070000
END:DAYLIGHT
BEGIN:STANDARD
TZOFFSETFROM:-0400
TZOFFSETTO:-0500
TZNAME:EST
DTSTART:20231105T060000
END:STANDARD
BEGIN:DAYLIGHT
TZOFFSETFROM:-0500
TZOFFSETTO:-0400
TZNAME:EDT
DTSTART:20240310T070000
END:DAYLIGHT
BEGIN:STANDARD
TZOFFSETFROM:-0400
TZOFFSETTO:-0500
TZNAME:EST
DTSTART:20241103T060000
END:STANDARD
END:VTIMEZONE
BEGIN:VEVENT
DTSTART;TZID=America/New_York:20230323T080000
DTEND;TZID=America/New_York:20230407T170000
DTSTAMP:20260420T103422
CREATED:20230323T112248Z
LAST-MODIFIED:20230323T112248Z
UID:5337-1679558400-1680886800@impactsilverspring.org
SUMMARY:Now accepting applications for the Weaver Learning Lab on Generative Conflict!
DESCRIPTION:We are now accepting applications for the Weaver Learning Lab on generative conflict through April 7. \n\nHave you ever felt stuck in moving work or initiatives forward when differences of opinions arise?\nDo you feel like disagreements or tensions in your relationships hinder mutual growth\, learning and progress?\nAre you curious about ways that you can better understand your relationship to conflict and move towards healthier interactions?\n\nIf you can relate to these questions\, we encourage you to apply to the Weaver Learning Lab series on generative conflict using this link: https://forms.gle/sXC1reeNe3BM8N8j8 \n The goal of this learning series is to examine your current relationship with conflict at multiple levels and identify the conditions you want to shift within yourself to lay the foundation for generative conflict. When we lean into conflict with a commitment to strengthening our relationships\, and an openness to learn\, it can generate constructive solutions\, possibilities\, and transformation. \nTo learn more about the Weaver Learning Lab and this specific series on generative conflict\, please visit our website at https://impactsilverspring.org/weaver-learning-lab/. \nIf you have any questions please contact Yesenia Regalado\, IMPACT’s Racial Equity Network Builder\, via email: yesenia@impactsilverspring.org
URL:https://impactsilverspring.org/event/now-accepting-applications-for-the-weaver-learning-lab-on-generative-conflict/
LOCATION:Online Event
ATTACH;FMTTYPE=image/png:https://impactsilverspring.org/wp-content/uploads/2023/03/V2_Generative-Conflict-1.png
END:VEVENT
BEGIN:VEVENT
DTSTART;TZID=America/New_York:20230422T110000
DTEND;TZID=America/New_York:20230422T150000
DTSTAMP:20260420T103422
CREATED:20230419T000358Z
LAST-MODIFIED:20230419T010238Z
UID:5388-1682161200-1682175600@impactsilverspring.org
SUMMARY:Earth Day Community Clean-Up
DESCRIPTION:IMPACT is excited to support a community clean-up at Broadacres Local Park.  Join us on Earth Day to help show our planet some love! ❤️ \nVolunteers are needed and Student Service Learning (SSL) hours will be provided. Meet at the Gazebo at Broadacres Local Park\, 710 Beacon Rd.\, Silver Spring MD. \n 
URL:https://impactsilverspring.org/event/earth-day-community-clean-up/
LOCATION:Broadacres Local Park\, 710 Beacon Road\, Silver Spring\, MD\, 20903\, United States
ATTACH;FMTTYPE=image/jpeg:https://impactsilverspring.org/wp-content/uploads/2023/04/Screenshot_20230414_120244_Drive-e1681866107387.jpg
END:VEVENT
BEGIN:VEVENT
DTSTART;TZID=America/New_York:20230423T120000
DTEND;TZID=America/New_York:20230423T170000
DTSTAMP:20260420T103422
CREATED:20230419T005751Z
LAST-MODIFIED:20230419T010424Z
UID:5391-1682251200-1682269200@impactsilverspring.org
SUMMARY:Greenfest in the City "Marketplace"
DESCRIPTION:This Earth Day weekend\, come out and support local small businesses at “Greenfest in the City.”  Microentrepreneurs from the IMPACT network will be selling handcrafted jewelry\, piñatas\, gifts\, cultural items\, and much more! \nCheck out the following makers: \nSonias Craft Design \nConstelación de Ideas \nIngrid Crochet Designs \nAnnie’s Designs \nBloom Artist by Eunice LLC \nPiñatas Kids \n  \n  \n 
URL:https://impactsilverspring.org/event/greenfest-in-the-city-marketplace/
LOCATION:Marian Fryer Town Plaza\, 2424 Reedie Drive\, Wheaton\, MD\, United States
ATTACH;FMTTYPE=image/png:https://impactsilverspring.org/wp-content/uploads/2023/04/image-6.png
END:VEVENT
END:VCALENDAR