BEGIN:VCALENDAR
VERSION:2.0
PRODID:-//IMPACT Silver Spring - ECPv6.15.17//NONSGML v1.0//EN
CALSCALE:GREGORIAN
METHOD:PUBLISH
X-ORIGINAL-URL:https://impactsilverspring.org
X-WR-CALDESC:Events for IMPACT Silver Spring
REFRESH-INTERVAL;VALUE=DURATION:PT1H
X-Robots-Tag:noindex
X-PUBLISHED-TTL:PT1H
BEGIN:VTIMEZONE
TZID:America/New_York
BEGIN:DAYLIGHT
TZOFFSETFROM:-0500
TZOFFSETTO:-0400
TZNAME:EDT
DTSTART:20210314T070000
END:DAYLIGHT
BEGIN:STANDARD
TZOFFSETFROM:-0400
TZOFFSETTO:-0500
TZNAME:EST
DTSTART:20211107T060000
END:STANDARD
BEGIN:DAYLIGHT
TZOFFSETFROM:-0500
TZOFFSETTO:-0400
TZNAME:EDT
DTSTART:20220313T070000
END:DAYLIGHT
BEGIN:STANDARD
TZOFFSETFROM:-0400
TZOFFSETTO:-0500
TZNAME:EST
DTSTART:20221106T060000
END:STANDARD
BEGIN:DAYLIGHT
TZOFFSETFROM:-0500
TZOFFSETTO:-0400
TZNAME:EDT
DTSTART:20230312T070000
END:DAYLIGHT
BEGIN:STANDARD
TZOFFSETFROM:-0400
TZOFFSETTO:-0500
TZNAME:EST
DTSTART:20231105T060000
END:STANDARD
END:VTIMEZONE
BEGIN:VEVENT
DTSTART;TZID=America/New_York:20221203T120000
DTEND;TZID=America/New_York:20221203T170000
DTSTAMP:20260421T003640
CREATED:20221031T224108Z
LAST-MODIFIED:20221031T231522Z
UID:4820-1670068800-1670086800@impactsilverspring.org
SUMMARY:Wheaton Holiday Market
DESCRIPTION:Don’t miss the Wheaton Holiday Market–happening 12/3\, 12/10\, 12/17 from 12 pm – 5 pm. The Holiday Market in Wheaton features micro-entrepreneurs from the IMPACT network selling cultural foods and artisan gifts (there will also be county resources and service providers). Don’t miss the opportunity to kick-off the holidays with an array of unique goodies and gifts while also boosting our local ecconomy.  Now that’s a win-win!! \n 
URL:https://impactsilverspring.org/event/wheaton-holiday-market/
LOCATION:Marian Fryer Town Plaza\, 2424 Reedie Drive\, Wheaton\, MD\, United States
CATEGORIES:Boosting Economic Power
ATTACH;FMTTYPE=image/png:https://impactsilverspring.org/wp-content/uploads/2022/10/Holiday-Market-2022.png
END:VEVENT
BEGIN:VEVENT
DTSTART;TZID=America/New_York:20221206T183000
DTEND;TZID=America/New_York:20221206T203000
DTSTAMP:20260421T003640
CREATED:20221117T214416Z
LAST-MODIFIED:20221117T214509Z
UID:5026-1670351400-1670358600@impactsilverspring.org
SUMMARY:IMPACT Online Film & Discussion: "American Revolutionary: The Evolution of Grace Lee Boggs"
DESCRIPTION:Prepare to be inspired during IMPACT’s December online film and discussion event! As we are nearing the winter solstice\, often held as a time for rest and reflection\, we’re gathering to watch and talk about the documentary “American Revolutionary: The Evolution of Grace Lee Boggs.”\n\nThis award-winning film was 12 years in the making and follows renowned Chinese American activist\, author\, and philosopher Grace Lee Boggs as she recounts her life in movement work from labor to civil rights\, to Black Power\, feminism\, the Asian American and environmental justice movements and beyond. The documentary explores the profound impact of rest\, reflection\, and conversation on Grace’s evolving beliefs about and approaches to social change. During what is a time for introspection for many\, we invite you to join us to learn more about the American Revolutionary who gave us the gem: “We must change ourselves in order to change the world.”\n\nThis is a free\, online event. Please register here: https://tinyurl.com/2fwm66vt
URL:https://impactsilverspring.org/event/impact-online-film-discussion-american-revolutionary-the-evolution-of-grace-lee-boggs/
LOCATION:Online Event
ATTACH;FMTTYPE=image/png:https://impactsilverspring.org/wp-content/uploads/2022/11/Grace-Lee-Boggs-1.png
END:VEVENT
END:VCALENDAR