BEGIN:VCALENDAR
VERSION:2.0
PRODID:-//IMPACT Silver Spring - ECPv6.15.17//NONSGML v1.0//EN
CALSCALE:GREGORIAN
METHOD:PUBLISH
X-WR-CALNAME:IMPACT Silver Spring
X-ORIGINAL-URL:https://impactsilverspring.org
X-WR-CALDESC:Events for IMPACT Silver Spring
REFRESH-INTERVAL;VALUE=DURATION:PT1H
X-Robots-Tag:noindex
X-PUBLISHED-TTL:PT1H
BEGIN:VTIMEZONE
TZID:America/New_York
BEGIN:DAYLIGHT
TZOFFSETFROM:-0500
TZOFFSETTO:-0400
TZNAME:EDT
DTSTART:20210314T070000
END:DAYLIGHT
BEGIN:STANDARD
TZOFFSETFROM:-0400
TZOFFSETTO:-0500
TZNAME:EST
DTSTART:20211107T060000
END:STANDARD
BEGIN:DAYLIGHT
TZOFFSETFROM:-0500
TZOFFSETTO:-0400
TZNAME:EDT
DTSTART:20220313T070000
END:DAYLIGHT
BEGIN:STANDARD
TZOFFSETFROM:-0400
TZOFFSETTO:-0500
TZNAME:EST
DTSTART:20221106T060000
END:STANDARD
BEGIN:DAYLIGHT
TZOFFSETFROM:-0500
TZOFFSETTO:-0400
TZNAME:EDT
DTSTART:20230312T070000
END:DAYLIGHT
BEGIN:STANDARD
TZOFFSETFROM:-0400
TZOFFSETTO:-0500
TZNAME:EST
DTSTART:20231105T060000
END:STANDARD
END:VTIMEZONE
BEGIN:VEVENT
DTSTART;TZID=America/New_York:20221105T130000
DTEND;TZID=America/New_York:20221105T160000
DTSTAMP:20260423T045355
CREATED:20221104T153735Z
LAST-MODIFIED:20221104T154330Z
UID:4834-1667653200-1667664000@impactsilverspring.org
SUMMARY:Maydale Nature Classroom Community Celebration
DESCRIPTION:Don’t miss Maydale Nature Classroom’s 2nd Annual Community Celebration THIS Saturday! The event will feature live music; campfires & s’mores; appearances by Smokey Bear; apple cider making; and fall crafts. Maydale holds a special place in IMPACT’s heart because among the several activists who helped get the Nature Classroom revitalized and reopened is our own Network Administrator (and East County resident!)\, Renée Katz. \n  \n 
URL:https://impactsilverspring.org/event/maydale-nature-classroom-community-celebration/
LOCATION:Maydale Nature Classroom\, 1638 Maydale Dr.\, Colesville\, MD\, 20905\, United States
CATEGORIES:Connecting Communities,East County Network
ATTACH;FMTTYPE=image/jpeg:https://impactsilverspring.org/wp-content/uploads/2022/11/313943712_5476485149101305_1070242481317633461_n.jpg
END:VEVENT
END:VCALENDAR