BEGIN:VCALENDAR
VERSION:2.0
PRODID:-//IMPACT Silver Spring - ECPv6.15.17//NONSGML v1.0//EN
CALSCALE:GREGORIAN
METHOD:PUBLISH
X-WR-CALNAME:IMPACT Silver Spring
X-ORIGINAL-URL:https://impactsilverspring.org
X-WR-CALDESC:Events for IMPACT Silver Spring
REFRESH-INTERVAL;VALUE=DURATION:PT1H
X-Robots-Tag:noindex
X-PUBLISHED-TTL:PT1H
BEGIN:VTIMEZONE
TZID:America/New_York
BEGIN:DAYLIGHT
TZOFFSETFROM:-0500
TZOFFSETTO:-0400
TZNAME:EDT
DTSTART:20210314T070000
END:DAYLIGHT
BEGIN:STANDARD
TZOFFSETFROM:-0400
TZOFFSETTO:-0500
TZNAME:EST
DTSTART:20211107T060000
END:STANDARD
BEGIN:DAYLIGHT
TZOFFSETFROM:-0500
TZOFFSETTO:-0400
TZNAME:EDT
DTSTART:20220313T070000
END:DAYLIGHT
BEGIN:STANDARD
TZOFFSETFROM:-0400
TZOFFSETTO:-0500
TZNAME:EST
DTSTART:20221106T060000
END:STANDARD
BEGIN:DAYLIGHT
TZOFFSETFROM:-0500
TZOFFSETTO:-0400
TZNAME:EDT
DTSTART:20230312T070000
END:DAYLIGHT
BEGIN:STANDARD
TZOFFSETFROM:-0400
TZOFFSETTO:-0500
TZNAME:EST
DTSTART:20231105T060000
END:STANDARD
END:VTIMEZONE
BEGIN:VEVENT
DTSTART;TZID=America/New_York:20221015T140000
DTEND;TZID=America/New_York:20221015T170000
DTSTAMP:20260425T090832
CREATED:20221005T175051Z
LAST-MODIFIED:20221005T175051Z
UID:4673-1665842400-1665853200@impactsilverspring.org
SUMMARY:The Fall Family Festival
DESCRIPTION:What better way to kick off fall than a festival?!  IMPACT and Hughes United Methodist Church are co-organizing a festival with the theme “Cultures and Voices of the World.”  The event will feature fun for the whole family includes games and activities for children\, raffles\, music\, and resources and services from Montgomery County.  There will be vendors from different countries\, Mariachi\, and folk dancers.  Attendees are invited to wear clothing representing their heritage.  If you wish to perform a folkloric dance from your home country\, please contact IMPACT Network Builder Carmen Hernandez at carmen@impactsilverspring.org.  We hope to see you there! \nParking is available at 10613 Georgia Avenue–across the street from Hughes United Methodist Church. \n 
URL:https://impactsilverspring.org/event/the-fall-family-festival/
LOCATION:Hughes United Methodist Church\, 10700 Georgia Avenue \, Wheaton\, MD\, 20902\, United States
END:VEVENT
BEGIN:VEVENT
DTSTART;TZID=America/New_York:20221018T190000
DTEND;TZID=America/New_York:20221018T203000
DTSTAMP:20260425T090832
CREATED:20220923T140530Z
LAST-MODIFIED:20220923T140530Z
UID:4621-1666119600-1666125000@impactsilverspring.org
SUMMARY:Solidarity Not Charity with Dean Spade | Solidaridad\, no caridad con Dean Spade
DESCRIPTION:REGISTER HERE \nSolidarity Not Charity with Dean Spade\nA webinar on Mutual Aid in Social Justice Movements\nTuesday\, October 18\n7:00 PM – 8:30 PM (EDT) \nJoin IMPACT Silver Spring for a virtual event featuring organizer\, writer\, and Professor of Law at Seattle University School of Law\, Dean Spade. Dean will explain mutual aid (think radical acts of caring\, not charity) and its importance in social justice movements. Attendees will learn from historical and contemporary examples of successful movements\, and have the opportunity to submit questions. This event is free and open to the public\, and will include Spanish interpretation. \nWe’re pleased to be able to offer this as a FREE event\, but we need your support to keep events like this free and accessible. That’s why this event is also a fundraiser! \nAt checkout\, please consider making a donation–suggested amount: $25 – $50 or whatever you’re able to give. The money raised through this event will go towards IMPACT’s continued equitable COVID recovery efforts\, and transformational work on the individual\, neighborhood and systems levels. \nThank you for your support! \n\nRegistrarse aquí \nSolidaridad\, no caridad con Dean Spade\nLa ayuda mutua en los movimientos de justicia social\nMartes el 18 de Octubre\n7:00 PM – 8:30 PM (EDT – Hora Este)\nÚnase a IMPACT Silver Spring para un evento virtual con el organizador\, escritor y profesor de Derecho en la Facultad de Derecho de la Universidad de Seattle\, Dean Spade. Dean explicará lo que es la ayuda mutua (piensa en actos radicales de cuidado\, no de caridad) y su importancia en los movimientos de justicia social. Los asistentes aprenderán de ejemplos históricos y contemporáneos de movimientos exitosos\, y tendrán la oportunidad de hacer preguntas. Este evento es gratuito y abierto al público\, y contará con interpretación al español. \nNos complace poder ofrecer este evento gratuitamente\, pero necesitamos su apoyo para que eventos como este sigan siendo gratuitos y accesibles. Por eso este evento es también una recaudación de fondos. \nA la salida\, por favor considere hacer una donación – cantidad sugerida: $25 – $50 dólares o lo que puedas dar. El dinero recaudado a través de este evento se destinará a los esfuerzos constantes de recuperación equitativa del COVID de IMPACT\, y el trabajo de transformación en el individuo\, el barrio y los niveles de los sistemas. \n¡Gracias por su apoyo! \n 
URL:https://impactsilverspring.org/event/solidarity-not-charity-with-dean-spade-solidaridad-no-caridad-con-dean-spade/
LOCATION:Online Event
END:VEVENT
BEGIN:VEVENT
DTSTART;TZID=America/New_York:20221022T103000
DTEND;TZID=America/New_York:20221022T123000
DTSTAMP:20260425T090832
CREATED:20221011T225922Z
LAST-MODIFIED:20221025T004030Z
UID:4679-1666434600-1666441800@impactsilverspring.org
SUMMARY:Long Branch Community Clean-Up
DESCRIPTION:We all have a role to play in keeping our community clean!  Youth and adults\, please join us for this Community Clean-Up Day in Long Branch. Gloves and reusable water bottle will be provided.\nRegistration Form (registration is encouraged but not required)\nhttps://forms.gle/YwWWGVfccjzq7oiB6
URL:https://impactsilverspring.org/event/long-branch-community-clean-up/
LOCATION:Clifton Park Baptist Church\, 8818 Piney Branch Road\, Silver Spring\, 20903\, United States
CATEGORIES:Network Event
END:VEVENT
END:VCALENDAR