BEGIN:VCALENDAR
VERSION:2.0
PRODID:-//IMPACT Silver Spring - ECPv6.15.17//NONSGML v1.0//EN
CALSCALE:GREGORIAN
METHOD:PUBLISH
X-ORIGINAL-URL:https://impactsilverspring.org
X-WR-CALDESC:Events for IMPACT Silver Spring
REFRESH-INTERVAL;VALUE=DURATION:PT1H
X-Robots-Tag:noindex
X-PUBLISHED-TTL:PT1H
BEGIN:VTIMEZONE
TZID:America/New_York
BEGIN:DAYLIGHT
TZOFFSETFROM:-0500
TZOFFSETTO:-0400
TZNAME:EDT
DTSTART:20220313T070000
END:DAYLIGHT
BEGIN:STANDARD
TZOFFSETFROM:-0400
TZOFFSETTO:-0500
TZNAME:EST
DTSTART:20221106T060000
END:STANDARD
BEGIN:DAYLIGHT
TZOFFSETFROM:-0500
TZOFFSETTO:-0400
TZNAME:EDT
DTSTART:20230312T070000
END:DAYLIGHT
BEGIN:STANDARD
TZOFFSETFROM:-0400
TZOFFSETTO:-0500
TZNAME:EST
DTSTART:20231105T060000
END:STANDARD
BEGIN:DAYLIGHT
TZOFFSETFROM:-0500
TZOFFSETTO:-0400
TZNAME:EDT
DTSTART:20240310T070000
END:DAYLIGHT
BEGIN:STANDARD
TZOFFSETFROM:-0400
TZOFFSETTO:-0500
TZNAME:EST
DTSTART:20241103T060000
END:STANDARD
END:VTIMEZONE
BEGIN:VEVENT
DTSTART;TZID=America/New_York:20230614T190000
DTEND;TZID=America/New_York:20230614T203000
DTSTAMP:20260420T103505
CREATED:20230524T234642Z
LAST-MODIFIED:20230524T234751Z
UID:5419-1686769200-1686774600@impactsilverspring.org
SUMMARY:How Can You Show Up for Social Change?
DESCRIPTION:Join IMPACT Silver Spring for “How Can YOU Show Up for Social Change?” a webinar led by activist and author Deepa Iyer.\nIn our lives and as part of organizations\, many of us play different roles in pursuit of equity\, shared liberation\, inclusion\, and justice. Sometimes\, we feel overwhelmed\, confused\, or ineffective as we reach for our goals. This online session is for individuals and groups at any stage of their social change efforts with an interest in deepening their roles\, clarifying shared values\, and sustaining their ecosystems.\n\nUsing the Social Change Ecosystem developed by Deepa and featured in her new book Social Change Now: A Guide for Reflection and Connection\, participants will identify guiding values\, map their roles\, assess their ecosystems\, and develop sustainability goals.\n\nFollowing the presentation\, Deepa will be in conversation with local Economic Equity Advocate Tiffany Kelly\, and Thylan Singleton\, Program Manager at the Montgomery County Collaboration Council\, about what roles they take on in their work\, along with examining the broader Montgomery County equity ecosystem.\n\nIf you’re looking for ways to engage in social change efforts more effectively\, collaboratively\, and sustainably—this is the session for you!\n\nUse this link to register for this FREE webinar: https://impact_socialchange.eventbrite.com/
URL:https://impactsilverspring.org/event/how-can-you-show-up-for-social-change/
LOCATION:Online Event
CATEGORIES:Network Event
ATTACH;FMTTYPE=image/png:https://impactsilverspring.org/wp-content/uploads/2023/05/Flyer-2-3.png
END:VEVENT
END:VCALENDAR