BEGIN:VCALENDAR
VERSION:2.0
PRODID:-//IMPACT Silver Spring - ECPv6.15.17//NONSGML v1.0//EN
CALSCALE:GREGORIAN
METHOD:PUBLISH
X-ORIGINAL-URL:https://impactsilverspring.org
X-WR-CALDESC:Events for IMPACT Silver Spring
REFRESH-INTERVAL;VALUE=DURATION:PT1H
X-Robots-Tag:noindex
X-PUBLISHED-TTL:PT1H
BEGIN:VTIMEZONE
TZID:America/New_York
BEGIN:DAYLIGHT
TZOFFSETFROM:-0500
TZOFFSETTO:-0400
TZNAME:EDT
DTSTART:20220313T070000
END:DAYLIGHT
BEGIN:STANDARD
TZOFFSETFROM:-0400
TZOFFSETTO:-0500
TZNAME:EST
DTSTART:20221106T060000
END:STANDARD
BEGIN:DAYLIGHT
TZOFFSETFROM:-0500
TZOFFSETTO:-0400
TZNAME:EDT
DTSTART:20230312T070000
END:DAYLIGHT
BEGIN:STANDARD
TZOFFSETFROM:-0400
TZOFFSETTO:-0500
TZNAME:EST
DTSTART:20231105T060000
END:STANDARD
BEGIN:DAYLIGHT
TZOFFSETFROM:-0500
TZOFFSETTO:-0400
TZNAME:EDT
DTSTART:20240310T070000
END:DAYLIGHT
BEGIN:STANDARD
TZOFFSETFROM:-0400
TZOFFSETTO:-0500
TZNAME:EST
DTSTART:20241103T060000
END:STANDARD
END:VTIMEZONE
BEGIN:VEVENT
DTSTART;TZID=America/New_York:20230610T110000
DTEND;TZID=America/New_York:20230610T150000
DTSTAMP:20260420T080236
CREATED:20230608T220332Z
LAST-MODIFIED:20230608T220618Z
UID:5436-1686394800-1686409200@impactsilverspring.org
SUMMARY:Entrepreneur Fair in Wheaton!
DESCRIPTION:Don’t miss this chance to support micro business owners and strengthen our local economy. Coming this Saturday\, June 10 from 11 am – 3 pm at Hughes United Methodist Church (10700 Georgia Ave.\, Silver Spring) is another exciting Entrepreneur Fair!  Many of the entrepreneurs will be from IMPACT’s Community Trade Academy (read more about the academy here: https://impactsilverspring.org/impacts-community-trade-academy/). We’re delighted to be partnering with El Poder de Ser Mujer and Hughes to make this event possible. See ya there!
URL:https://impactsilverspring.org/event/entrepreneur-fair-in-wheaton/
LOCATION:Hughes United Methodist Church\, 10700 Georgia Avenue \, Wheaton\, MD\, 20902\, United States
ATTACH;FMTTYPE=image/png:https://impactsilverspring.org/wp-content/uploads/2023/06/Entrepreneur-Fair-June-2023.png
END:VEVENT
END:VCALENDAR