BEGIN:VCALENDAR
VERSION:2.0
PRODID:-//IMPACT Silver Spring - ECPv6.15.17//NONSGML v1.0//EN
CALSCALE:GREGORIAN
METHOD:PUBLISH
X-ORIGINAL-URL:https://impactsilverspring.org
X-WR-CALDESC:Events for IMPACT Silver Spring
REFRESH-INTERVAL;VALUE=DURATION:PT1H
X-Robots-Tag:noindex
X-PUBLISHED-TTL:PT1H
BEGIN:VTIMEZONE
TZID:America/New_York
BEGIN:DAYLIGHT
TZOFFSETFROM:-0500
TZOFFSETTO:-0400
TZNAME:EDT
DTSTART:20220313T070000
END:DAYLIGHT
BEGIN:STANDARD
TZOFFSETFROM:-0400
TZOFFSETTO:-0500
TZNAME:EST
DTSTART:20221106T060000
END:STANDARD
BEGIN:DAYLIGHT
TZOFFSETFROM:-0500
TZOFFSETTO:-0400
TZNAME:EDT
DTSTART:20230312T070000
END:DAYLIGHT
BEGIN:STANDARD
TZOFFSETFROM:-0400
TZOFFSETTO:-0500
TZNAME:EST
DTSTART:20231105T060000
END:STANDARD
BEGIN:DAYLIGHT
TZOFFSETFROM:-0500
TZOFFSETTO:-0400
TZNAME:EDT
DTSTART:20240310T070000
END:DAYLIGHT
BEGIN:STANDARD
TZOFFSETFROM:-0400
TZOFFSETTO:-0500
TZNAME:EST
DTSTART:20241103T060000
END:STANDARD
END:VTIMEZONE
BEGIN:VEVENT
DTSTART;TZID=America/New_York:20230323T080000
DTEND;TZID=America/New_York:20230407T170000
DTSTAMP:20260420T104732
CREATED:20230323T112248Z
LAST-MODIFIED:20230323T112248Z
UID:5337-1679558400-1680886800@impactsilverspring.org
SUMMARY:Now accepting applications for the Weaver Learning Lab on Generative Conflict!
DESCRIPTION:We are now accepting applications for the Weaver Learning Lab on generative conflict through April 7. \n\nHave you ever felt stuck in moving work or initiatives forward when differences of opinions arise?\nDo you feel like disagreements or tensions in your relationships hinder mutual growth\, learning and progress?\nAre you curious about ways that you can better understand your relationship to conflict and move towards healthier interactions?\n\nIf you can relate to these questions\, we encourage you to apply to the Weaver Learning Lab series on generative conflict using this link: https://forms.gle/sXC1reeNe3BM8N8j8 \n The goal of this learning series is to examine your current relationship with conflict at multiple levels and identify the conditions you want to shift within yourself to lay the foundation for generative conflict. When we lean into conflict with a commitment to strengthening our relationships\, and an openness to learn\, it can generate constructive solutions\, possibilities\, and transformation. \nTo learn more about the Weaver Learning Lab and this specific series on generative conflict\, please visit our website at https://impactsilverspring.org/weaver-learning-lab/. \nIf you have any questions please contact Yesenia Regalado\, IMPACT’s Racial Equity Network Builder\, via email: yesenia@impactsilverspring.org
URL:https://impactsilverspring.org/event/now-accepting-applications-for-the-weaver-learning-lab-on-generative-conflict/
LOCATION:Online Event
ATTACH;FMTTYPE=image/png:https://impactsilverspring.org/wp-content/uploads/2023/03/V2_Generative-Conflict-1.png
END:VEVENT
BEGIN:VEVENT
DTSTART;TZID=America/New_York:20230324T173000
DTEND;TZID=America/New_York:20230324T190000
DTSTAMP:20260420T104732
CREATED:20230308T224252Z
LAST-MODIFIED:20230309T160651Z
UID:5264-1679679000-1679684400@impactsilverspring.org
SUMMARY:Community Connect in Long Branch
DESCRIPTION:IMPACT\, along with other partners at the Silver Spring Service Consolidation Hub\, is hosting a “Community Connect” event where Long Branch residents can gather to engage in conversations about important community topics. To-go meals will be provided along with childcare. If you have questions or need more information\, please contact Sara Mussie at sara@impactsilverspring.org. \n 
URL:https://impactsilverspring.org/event/community-connection/
LOCATION:Clifton Park Baptist Church\, 8818 Piney Branch Road\, Silver Spring\, 20903\, United States
ATTACH;FMTTYPE=image/png:https://impactsilverspring.org/wp-content/uploads/2023/03/COMmuNity-4-e1678315817850.png
END:VEVENT
END:VCALENDAR